BEGIN:VCALENDAR
VERSION:2.0
PRODID:-//Asociación Riojana de Pediatría de Atención Primaria - ECPv6.15.20//NONSGML v1.0//EN
CALSCALE:GREGORIAN
METHOD:PUBLISH
X-WR-CALNAME:Asociación Riojana de Pediatría de Atención Primaria
X-ORIGINAL-URL:https://arpap.org
X-WR-CALDESC:Eventos para Asociación Riojana de Pediatría de Atención Primaria
REFRESH-INTERVAL;VALUE=DURATION:PT1H
X-Robots-Tag:noindex
X-PUBLISHED-TTL:PT1H
BEGIN:VTIMEZONE
TZID:Europe/Madrid
BEGIN:DAYLIGHT
TZOFFSETFROM:+0100
TZOFFSETTO:+0200
TZNAME:CEST
DTSTART:20250330T010000
END:DAYLIGHT
BEGIN:STANDARD
TZOFFSETFROM:+0200
TZOFFSETTO:+0100
TZNAME:CET
DTSTART:20251026T010000
END:STANDARD
BEGIN:DAYLIGHT
TZOFFSETFROM:+0100
TZOFFSETTO:+0200
TZNAME:CEST
DTSTART:20260329T010000
END:DAYLIGHT
BEGIN:STANDARD
TZOFFSETFROM:+0200
TZOFFSETTO:+0100
TZNAME:CET
DTSTART:20261025T010000
END:STANDARD
BEGIN:DAYLIGHT
TZOFFSETFROM:+0100
TZOFFSETTO:+0200
TZNAME:CEST
DTSTART:20270328T010000
END:DAYLIGHT
BEGIN:STANDARD
TZOFFSETFROM:+0200
TZOFFSETTO:+0100
TZNAME:CET
DTSTART:20271031T010000
END:STANDARD
END:VTIMEZONE
BEGIN:VEVENT
DTSTART;TZID=Europe/Madrid:20260122T170000
DTEND;TZID=Europe/Madrid:20260122T180000
DTSTAMP:20260423T133820
CREATED:20260115T132001Z
LAST-MODIFIED:20260122T132253Z
UID:1645-1769101200-1769104800@arpap.org
SUMMARY:Asamblea General Ordinaria
DESCRIPTION:Durante la asamblea se tratarán\, entre otros\, los siguientes asuntos de especial interés para la asociación:\n\n\nPresentación de la memoria anual de actividades.\n\n\nPresentación del estado de cuentas de la asociación.\n\n\nInformación y debate sobre la nueva situación de los socios jubilados que pasan a abonar cuota.\n\n\nPropuesta de creación de grupos de trabajo para la actualización del Protocolo del Niño Sano de la Comunidad Autónoma de La Rioja.
URL:https://arpap.org/event/asamblea-general-ordinaria
LOCATION:Centro de Investigación Biomédica (CIBIR)\, Calle Piqueras 98\, Logroño
ORGANIZER;CN="Asociaci%C3%B3n Riojana de Pediatr%C3%ADa de Atenci%C3%B3n Primaria":MAILTO:secretaria@arpap.org
END:VEVENT
END:VCALENDAR